BEGIN:VCALENDAR
VERSION:2.0
PRODID:-//mente.hu - ECPv6.15.20//NONSGML v1.0//EN
CALSCALE:GREGORIAN
METHOD:PUBLISH
X-WR-CALNAME:mente.hu
X-ORIGINAL-URL:https://mente.hu
X-WR-CALDESC:Események mente.hu
REFRESH-INTERVAL;VALUE=DURATION:PT1H
X-Robots-Tag:noindex
X-PUBLISHED-TTL:PT1H
BEGIN:VTIMEZONE
TZID:UTC
BEGIN:STANDARD
TZOFFSETFROM:+0000
TZOFFSETTO:+0000
TZNAME:UTC
DTSTART:20200101T000000
END:STANDARD
END:VTIMEZONE
BEGIN:VEVENT
DTSTART;VALUE=DATE:20211113
DTEND;VALUE=DATE:20211114
DTSTAMP:20260423T182238
CREATED:20211016T154127Z
LAST-MODIFIED:20211104T193958Z
UID:18718-1636761600-1636847999@mente.hu
SUMMARY:Észak-Dunás Őszi találkozó
DESCRIPTION:
URL:https://mente.hu/esemeny/eszak-dunas-oszi-talalkozo/
LOCATION:Kismarosi Művelődési Ház\, Kossuth Lajos u. 22.\, Kismaros
CATEGORIES:Észak-Duna
ATTACH;FMTTYPE=image/jpeg:https://mente.hu/wp-content/uploads/2021/11/2021-ed-osz-plakat-scaled.jpg
END:VEVENT
END:VCALENDAR