BEGIN:VCALENDAR
VERSION:2.0
PRODID:-//mente.hu - ECPv6.15.20//NONSGML v1.0//EN
CALSCALE:GREGORIAN
METHOD:PUBLISH
X-ORIGINAL-URL:https://mente.hu
X-WR-CALDESC:Események mente.hu
REFRESH-INTERVAL;VALUE=DURATION:PT1H
X-Robots-Tag:noindex
X-PUBLISHED-TTL:PT1H
BEGIN:VTIMEZONE
TZID:UTC
BEGIN:STANDARD
TZOFFSETFROM:+0000
TZOFFSETTO:+0000
TZNAME:UTC
DTSTART:20230101T000000
END:STANDARD
END:VTIMEZONE
BEGIN:VEVENT
DTSTART;VALUE=DATE:20240708
DTEND;VALUE=DATE:20240714
DTSTAMP:20260424T104805
CREATED:20240201T101122Z
LAST-MODIFIED:20240607T120948Z
UID:21953-1720396800-1720915199@mente.hu
SUMMARY:Észak-Dunás tábor
DESCRIPTION:Részletek \nJelentkezés
URL:https://mente.hu/esemeny/eszak-dunas-tabor-2/
LOCATION:Nagymaros
CATEGORIES:Észak-Duna
END:VEVENT
END:VCALENDAR