BEGIN:VCALENDAR
VERSION:2.0
PRODID:-//mente.hu - ECPv6.15.20//NONSGML v1.0//EN
CALSCALE:GREGORIAN
METHOD:PUBLISH
X-WR-CALNAME:mente.hu
X-ORIGINAL-URL:https://mente.hu
X-WR-CALDESC:Események mente.hu
REFRESH-INTERVAL;VALUE=DURATION:PT1H
X-Robots-Tag:noindex
X-PUBLISHED-TTL:PT1H
BEGIN:VTIMEZONE
TZID:UTC
BEGIN:STANDARD
TZOFFSETFROM:+0000
TZOFFSETTO:+0000
TZNAME:UTC
DTSTART:20210101T000000
END:STANDARD
END:VTIMEZONE
BEGIN:VEVENT
DTSTART;VALUE=DATE:20221210
DTEND;VALUE=DATE:20221211
DTSTAMP:20260419T133840
CREATED:20221205T125927Z
LAST-MODIFIED:20221205T131830Z
UID:20586-1670630400-1670716799@mente.hu
SUMMARY:Téli tiszás találkozó
DESCRIPTION:
URL:https://mente.hu/esemeny/tiszas-talalkozo-7/
CATEGORIES:Tisza
ATTACH;FMTTYPE=image/jpeg:https://mente.hu/wp-content/uploads/2022/12/received_829969291440089.jpeg
END:VEVENT
END:VCALENDAR